BEGIN:VCALENDAR
VERSION:2.0
X-WR-CALNAME: Upcoming shows
PRODID:GIGPRESS 2.0 WORDPRESS PLUGIN
CALSCALE:GREGORIAN
X-WR-TIMEZONE:Etc/GMT
METHOD:PUBLISH
BEGIN:VTIMEZONE
TZID:GMT
BEGIN:STANDARD
DTSTART:20071028T010000
TZOFFSETTO:+0000
TZOFFSETFROM:+0000
END:STANDARD
END:VTIMEZONE
BEGIN:VEVENT
SUMMARY:Dáithí Sproule at Deireadh Seachtaine Gaeilge 2026
DESCRIPTION:Notes: Pleased to be leading a "Learning Songs in Irish" workshop at this Irish language weekend. 
LOCATION:Deireadh Seachtaine Gaeilge 2026\, St. Paul\, US
UID:20260502T210000Z-394-daithispr@comcast.net
URL:https://daithisproule.com/dates/
DTSTART;VALUE=DATE-TIME;TZID=GMT:20260502T210000Z
DTEND;VALUE=DATE-TIME;TZID=GMT:20260502T210000Z
DTSTAMP:20260422T054147Z
END:VEVENT
BEGIN:VEVENT
SUMMARY:Dáithí Sproule & Victoria Adiiye Album Launch at Minnesota Irish Music Weekend
DESCRIPTION:Notes: A concert celebrating the release of "There But For Fortune\," the new album from Dáithí Sproule and Victoria Adiiye. 
LOCATION:Minnesota Irish Music Weekend\, St. Paul\, US
UID:20260612T213000Z-396-daithispr@comcast.net
URL:https://daithisproule.com/dates/
DTSTART;VALUE=DATE-TIME;TZID=GMT:20260612T213000Z
DTEND;VALUE=DATE-TIME;TZID=GMT:20260612T213000Z
DTSTAMP:20260422T054147Z
END:VEVENT
BEGIN:VEVENT
SUMMARY:Dáithí Sproule at Minnesota Irish Music Weekend
DESCRIPTION:Notes: Song and guitar workshops and an interview with Macdara Ó Faoláin. 
LOCATION:Minnesota Irish Music Weekend\, St. Paul\, US
UID:20260612-395-daithispr@comcast.net
URL:https://daithisproule.com/dates/
DTSTART;VALUE=DATE;TZID=GMT:20260612
DTEND;VALUE=DATE;TZID=GMT:20260615
DTSTAMP:20260422T054147Z
END:VEVENT
BEGIN:VEVENT
SUMMARY:MacKenzie\, Sproule\, & Sutter at Minnesota Scottish Fair
DESCRIPTION:Notes: I'll be doing a set with Ross Sutter\, and another with Laura MacKenzie and Ross. 
LOCATION:Minnesota Scottish Fair\, Macalester College\, St. Paul\, US
UID:20260718-397-daithispr@comcast.net
URL:https://daithisproule.com/dates/
DTSTART;VALUE=DATE;TZID=GMT:20260718
DTEND;VALUE=DATE;TZID=GMT:20260718
DTSTAMP:20260422T054147Z
END:VEVENT
END:VCALENDAR